BEGIN:VCALENDAR
VERSION:2.0
PRODID:-//Troy First Baptist - ECPv6.15.20//NONSGML v1.0//EN
CALSCALE:GREGORIAN
METHOD:PUBLISH
X-WR-CALNAME:Troy First Baptist
X-ORIGINAL-URL:https://troyfirstbaptistnc.org
X-WR-CALDESC:Events for Troy First Baptist
REFRESH-INTERVAL;VALUE=DURATION:PT1H
X-Robots-Tag:noindex
X-PUBLISHED-TTL:PT1H
BEGIN:VTIMEZONE
TZID:America/New_York
BEGIN:DAYLIGHT
TZOFFSETFROM:-0500
TZOFFSETTO:-0400
TZNAME:EDT
DTSTART:20240310T070000
END:DAYLIGHT
BEGIN:STANDARD
TZOFFSETFROM:-0400
TZOFFSETTO:-0500
TZNAME:EST
DTSTART:20241103T060000
END:STANDARD
BEGIN:DAYLIGHT
TZOFFSETFROM:-0500
TZOFFSETTO:-0400
TZNAME:EDT
DTSTART:20250309T070000
END:DAYLIGHT
BEGIN:STANDARD
TZOFFSETFROM:-0400
TZOFFSETTO:-0500
TZNAME:EST
DTSTART:20251102T060000
END:STANDARD
BEGIN:DAYLIGHT
TZOFFSETFROM:-0500
TZOFFSETTO:-0400
TZNAME:EDT
DTSTART:20260308T070000
END:DAYLIGHT
BEGIN:STANDARD
TZOFFSETFROM:-0400
TZOFFSETTO:-0500
TZNAME:EST
DTSTART:20261101T060000
END:STANDARD
BEGIN:DAYLIGHT
TZOFFSETFROM:-0500
TZOFFSETTO:-0400
TZNAME:EDT
DTSTART:20270314T070000
END:DAYLIGHT
BEGIN:STANDARD
TZOFFSETFROM:-0400
TZOFFSETTO:-0500
TZNAME:EST
DTSTART:20271107T060000
END:STANDARD
END:VTIMEZONE
BEGIN:VEVENT
DTSTART;TZID=America/New_York:20260418T140000
DTEND;TZID=America/New_York:20260418T150000
DTSTAMP:20260420T142320
CREATED:20260331T005254Z
LAST-MODIFIED:20260331T005304Z
UID:3896-1776520800-1776524400@troyfirstbaptistnc.org
SUMMARY:Coffee with Jesus – Uwharrie Mercantile
DESCRIPTION:
URL:https://troyfirstbaptistnc.org/event/coffee-with-jesus-uwharrie-mercantile-3/
END:VEVENT
BEGIN:VEVENT
DTSTART;TZID=America/New_York:20260409T183000
DTEND;TZID=America/New_York:20260409T200000
DTSTAMP:20260420T142320
CREATED:20260331T005039Z
LAST-MODIFIED:20260331T005049Z
UID:3893-1775759400-1775764800@troyfirstbaptistnc.org
SUMMARY:Bro Night at Sir Pizza at 6:30 p.m.
DESCRIPTION:
URL:https://troyfirstbaptistnc.org/event/bro-night-at-sir-pizza-at-630-p-m-3/
END:VEVENT
BEGIN:VEVENT
DTSTART;TZID=America/New_York:20260321T140000
DTEND;TZID=America/New_York:20260321T150000
DTSTAMP:20260420T142320
CREATED:20260302T133701Z
LAST-MODIFIED:20260302T133712Z
UID:3824-1774101600-1774105200@troyfirstbaptistnc.org
SUMMARY:Coffee with Jesus – Uwharrie Mercantile
DESCRIPTION:Coffee With JesusUwharrie Mercantile
URL:https://troyfirstbaptistnc.org/event/coffee-with-jesus-uwharrie-mercantile-2/
END:VEVENT
BEGIN:VEVENT
DTSTART;TZID=America/New_York:20260319T183000
DTEND;TZID=America/New_York:20260319T200000
DTSTAMP:20260420T142320
CREATED:20260302T134650Z
LAST-MODIFIED:20260302T134937Z
UID:3827-1773945000-1773950400@troyfirstbaptistnc.org
SUMMARY:Bro Night at Sir Pizza at 6:30 p.m.
DESCRIPTION:Bro Night at Sir Pizza at 6:30 p.m.
URL:https://troyfirstbaptistnc.org/event/bro-night-at-sir-pizza-at-630-p-m-2/
END:VEVENT
BEGIN:VEVENT
DTSTART;TZID=America/New_York:20260222T110000
DTEND;TZID=America/New_York:20260222T120000
DTSTAMP:20260420T142320
CREATED:20260104T212450Z
LAST-MODIFIED:20260104T212501Z
UID:3762-1771758000-1771761600@troyfirstbaptistnc.org
SUMMARY:Women's Ministry Union (WMU) Sunday
DESCRIPTION:
URL:https://troyfirstbaptistnc.org/event/womens-ministry-union-wmu-sunday/
END:VEVENT
BEGIN:VEVENT
DTSTART;TZID=America/New_York:20260221T140000
DTEND;TZID=America/New_York:20260221T150000
DTSTAMP:20260420T142320
CREATED:20260212T122155Z
LAST-MODIFIED:20260212T122207Z
UID:3796-1771682400-1771686000@troyfirstbaptistnc.org
SUMMARY:Coffee with Jesus
DESCRIPTION:Please come join us for a time of fellowship!
URL:https://troyfirstbaptistnc.org/event/coffee-with-jesus/
END:VEVENT
BEGIN:VEVENT
DTSTART;TZID=America/New_York:20260117T140000
DTEND;TZID=America/New_York:20260117T153000
DTSTAMP:20260420T142320
CREATED:20260104T211831Z
LAST-MODIFIED:20260104T211843Z
UID:3758-1768658400-1768663800@troyfirstbaptistnc.org
SUMMARY:Coffee with Jesus - Uwharrie Mercantile
DESCRIPTION:Coffee With JesusUwharrie Mercantile2:00 PM
URL:https://troyfirstbaptistnc.org/event/coffee-with-jesus-uwharrie-mercantile/
END:VEVENT
BEGIN:VEVENT
DTSTART;TZID=America/New_York:20260108T183000
DTEND;TZID=America/New_York:20260108T193000
DTSTAMP:20260420T142320
CREATED:20260104T212124Z
LAST-MODIFIED:20260104T212131Z
UID:3760-1767897000-1767900600@troyfirstbaptistnc.org
SUMMARY:Bro Night at Sir Pizza at 6:30 p.m.
DESCRIPTION:
URL:https://troyfirstbaptistnc.org/event/bro-night-at-sir-pizza-at-630-p-m/
END:VEVENT
BEGIN:VEVENT
DTSTART;TZID=America/New_York:20251221T180000
DTEND;TZID=America/New_York:20251221T193000
DTSTAMP:20260420T142320
CREATED:20251117T220204Z
LAST-MODIFIED:20251117T220214Z
UID:3702-1766340000-1766345400@troyfirstbaptistnc.org
SUMMARY:Candlelight Service/Lord’s Supper
DESCRIPTION:Candlelight Service/Lord’s Supper
URL:https://troyfirstbaptistnc.org/event/candlelight-service-lords-supper/
END:VEVENT
BEGIN:VEVENT
DTSTART;TZID=America/New_York:20251214T173000
DTEND;TZID=America/New_York:20251214T193000
DTSTAMP:20260420T142320
CREATED:20251117T220052Z
LAST-MODIFIED:20251117T223551Z
UID:3700-1765733400-1765740600@troyfirstbaptistnc.org
SUMMARY:Christmas Play/Dinner
DESCRIPTION:Christmas Play/Dinner
URL:https://troyfirstbaptistnc.org/event/christmas-play-dinner/
END:VEVENT
BEGIN:VEVENT
DTSTART;TZID=America/New_York:20251206T080000
DTEND;TZID=America/New_York:20251206T160000
DTSTAMP:20260420T142320
CREATED:20251117T215857Z
LAST-MODIFIED:20251117T215930Z
UID:3698-1765008000-1765036800@troyfirstbaptistnc.org
SUMMARY:Trip to Operation Christmas Child Processing Center Charlotte
DESCRIPTION:Trip to OCC Processing Center Charlotte Leave church at 8:00 AM.
URL:https://troyfirstbaptistnc.org/event/trip-to-operation-christmas-child-processing-center-charlotte/
END:VEVENT
BEGIN:VEVENT
DTSTART;TZID=America/New_York:20251205T180000
DTEND;TZID=America/New_York:20251205T193000
DTSTAMP:20260420T142320
CREATED:20250929T225720Z
LAST-MODIFIED:20250929T225731Z
UID:3651-1764957600-1764963000@troyfirstbaptistnc.org
SUMMARY:Caroling at Town Stage
DESCRIPTION:At Troy Town Stage
URL:https://troyfirstbaptistnc.org/event/caroling-at-town-stage/
END:VEVENT
BEGIN:VEVENT
DTSTART;TZID=America/New_York:20251130T180000
DTEND;TZID=America/New_York:20251130T193000
DTSTAMP:20260420T142320
CREATED:20251117T214132Z
LAST-MODIFIED:20251117T215557Z
UID:3696-1764525600-1764531000@troyfirstbaptistnc.org
SUMMARY:Recreation Sunday Hanging of the Green 6:00 PM
DESCRIPTION:Recreation Sunday Hanging of the Green 6:00 PM
URL:https://troyfirstbaptistnc.org/event/recreation-sunday-hanging-of-the-green-600-pm/
END:VEVENT
BEGIN:VEVENT
DTSTART;TZID=America/New_York:20251130T090000
DTEND;TZID=America/New_York:20251130T100000
DTSTAMP:20260420T142320
CREATED:20251117T214017Z
LAST-MODIFIED:20251117T214027Z
UID:3694-1764493200-1764496800@troyfirstbaptistnc.org
SUMMARY:5th Sunday Breakfast 9:00 AM
DESCRIPTION: 5th Sunday Breakfast 9:00 AM
URL:https://troyfirstbaptistnc.org/event/5th-sunday-breakfast-900-am/
END:VEVENT
BEGIN:VEVENT
DTSTART;TZID=America/New_York:20251119T120000
DTEND;TZID=America/New_York:20251119T140000
DTSTAMP:20260420T142320
CREATED:20251117T213832Z
LAST-MODIFIED:20251117T213854Z
UID:3691-1763553600-1763560800@troyfirstbaptistnc.org
SUMMARY:Seniors Together Thanksgiving Meal at Noon
DESCRIPTION:Seniors Together Thanksgiving Meal at Noon
URL:https://troyfirstbaptistnc.org/event/3691/
END:VEVENT
BEGIN:VEVENT
DTSTART;TZID=America/New_York:20251031T170000
DTEND;TZID=America/New_York:20251031T190000
DTSTAMP:20260420T142320
CREATED:20250929T223150Z
LAST-MODIFIED:20250929T223203Z
UID:3644-1761930000-1761937200@troyfirstbaptistnc.org
SUMMARY:Trunk R Treat
DESCRIPTION:At the church!
URL:https://troyfirstbaptistnc.org/event/trunk-r-treat/
END:VEVENT
BEGIN:VEVENT
DTSTART;TZID=America/New_York:20250914T173000
DTEND;TZID=America/New_York:20250914T193000
DTSTAMP:20260420T142320
CREATED:20250114T224720Z
LAST-MODIFIED:20250823T183522Z
UID:3019-1757871000-1757878200@troyfirstbaptistnc.org
SUMMARY:Family Wiffle Ball
DESCRIPTION:Wiffle ball tournament for all ages with hamburgers provided.
URL:https://troyfirstbaptistnc.org/event/family-wiffle-ball/
END:VEVENT
BEGIN:VEVENT
DTSTART;TZID=America/New_York:20250913T180000
DTEND;TZID=America/New_York:20250913T200000
DTSTAMP:20260420T142320
CREATED:20250824T142058Z
LAST-MODIFIED:20250824T204437Z
UID:3598-1757786400-1757793600@troyfirstbaptistnc.org
SUMMARY:Noche Mexicana - Celebration of Hispanic heritage
DESCRIPTION:Everyone is invited to our celebration of Hispanic heritage. It’s a family event and everything is free.
URL:https://troyfirstbaptistnc.org/event/noche-mexicana/
END:VEVENT
BEGIN:VEVENT
DTSTART;TZID=America/New_York:20250721T090000
DTEND;TZID=America/New_York:20250725T120000
DTSTAMP:20260420T142320
CREATED:20250111T015719Z
LAST-MODIFIED:20250515T212557Z
UID:3012-1753088400-1753444800@troyfirstbaptistnc.org
SUMMARY:Vacation Bible School 2025
DESCRIPTION:Howdy\, partners! Welcome to Wonder Junction! There’s no greater joy than to praise the name of the Lord all day long. But how can yer kids do that if they don’t know who Jesus is or what he’s done for them? \n\n\n\nHere at Wonder Junction\, we marvel at Jesus and live for his glory. \n\n\n\nJoin us for a Wild West themed week! \n\n\n\n9:00AM – Noon Daily \n\n\n\nFor More Information and to Register\, Click Here
URL:https://troyfirstbaptistnc.org/event/vacation-bible-school-2025/
END:VEVENT
BEGIN:VEVENT
DTSTART;TZID=America/New_York:20250707T080000
DTEND;TZID=America/New_York:20250711T170000
DTSTAMP:20260420T142320
CREATED:20250111T015253Z
LAST-MODIFIED:20250111T015257Z
UID:3008-1751875200-1752253200@troyfirstbaptistnc.org
SUMMARY:Fort Caswell
DESCRIPTION:Annual youth camp
URL:https://troyfirstbaptistnc.org/event/fort-caswell/
END:VEVENT
BEGIN:VEVENT
DTSTART;TZID=America/New_York:20250629T173000
DTEND;TZID=America/New_York:20250629T193000
DTSTAMP:20260420T142320
CREATED:20250114T224855Z
LAST-MODIFIED:20250114T224859Z
UID:3021-1751218200-1751225400@troyfirstbaptistnc.org
SUMMARY:5th Sunday Family Water Games
DESCRIPTION:Water games behind church along with Hot Dogs and Ice Cream.
URL:https://troyfirstbaptistnc.org/event/5th-sunday-family-water-games/
END:VEVENT
BEGIN:VEVENT
DTSTART;TZID=America/New_York:20250622T110000
DTEND;TZID=America/New_York:20250622T120000
DTSTAMP:20260420T142320
CREATED:20250609T155236Z
LAST-MODIFIED:20250609T155241Z
UID:3398-1750590000-1750593600@troyfirstbaptistnc.org
SUMMARY:Troy First Baptist Church Homecoming!
DESCRIPTION:
URL:https://troyfirstbaptistnc.org/event/troy-first-baptist-church-homecoming/
END:VEVENT
BEGIN:VEVENT
DTSTART;TZID=America/New_York:20250517T103000
DTEND;TZID=America/New_York:20250517T140000
DTSTAMP:20260420T142320
CREATED:20250429T020442Z
LAST-MODIFIED:20250506T201942Z
UID:3129-1747477800-1747490400@troyfirstbaptistnc.org
SUMMARY:Yard Sale for Fort Caswell Youth Trip
DESCRIPTION:When: Saturday\, May 17thWhere: Church parking Lot @ 401 East Main Street\, Troy\, NCWe’ll have a wide variety of items\, including:• Home goods• Clothing (men\, women’s\, handbags)• Toys\, books\, tools\, and more!• Great prices and hidden treasuresEveryone’s welcome — come early for the best finds!
URL:https://troyfirstbaptistnc.org/event/yard-sale/
END:VEVENT
BEGIN:VEVENT
DTSTART;TZID=America/New_York:20250514T180000
DTEND;TZID=America/New_York:20250514T200000
DTSTAMP:20260420T142320
CREATED:20250111T015514Z
LAST-MODIFIED:20250311T203631Z
UID:3010-1747245600-1747252800@troyfirstbaptistnc.org
SUMMARY:Children's Ice Cream Trip
DESCRIPTION:The children of TFBC will enjoy some ice cream at Ben’s Ice Cream at Kalawi Farms
URL:https://troyfirstbaptistnc.org/event/childrens-ice-cream-trip/
END:VEVENT
BEGIN:VEVENT
DTSTART;TZID=America/New_York:20250513T180000
DTEND;TZID=America/New_York:20250513T200000
DTSTAMP:20260420T142320
CREATED:20250424T204057Z
LAST-MODIFIED:20250511T005314Z
UID:3107-1747159200-1747166400@troyfirstbaptistnc.org
SUMMARY:Community awareness - Child Exploitation & Trafficking
DESCRIPTION:You have heard the numbers\, 89.4 Million images of children\, sexually exploited\, being traded. Horrific images of unimaginable deeds done in darkness have made their way into the hands of predators. Our children are crying out\, and we are asking you\, will you fight for them?  \n\n\n\n​It is not enough to be moved by the stories and statistics we encounter. We must allow those emotions to propel us into action. \n\n\n\n​The Invictus Task Force is a joint effort of federal\, state and local law enforcement in the fight against internet crimes against children (ICAC)\, sexual abuse\, trafficking and the exploitation of children.
URL:https://troyfirstbaptistnc.org/event/community-awareness-child-exploitation-trafficking/
END:VEVENT
BEGIN:VEVENT
DTSTART;TZID=America/New_York:20250508T183000
DTEND;TZID=America/New_York:20250508T193000
DTSTAMP:20260420T142320
CREATED:20250425T160030Z
LAST-MODIFIED:20250425T160034Z
UID:3121-1746729000-1746732600@troyfirstbaptistnc.org
SUMMARY:Bro Night
DESCRIPTION:Baptist Brotherhood meeting at Zeno’s on Albemarle Rd in Troy. Meal and a meeting.
URL:https://troyfirstbaptistnc.org/event/bro-night/
END:VEVENT
BEGIN:VEVENT
DTSTART;TZID=America/New_York:20250504T170000
DTEND;TZID=America/New_York:20250504T200000
DTSTAMP:20260420T142320
CREATED:20250111T015113Z
LAST-MODIFIED:20250111T015117Z
UID:3006-1746378000-1746388800@troyfirstbaptistnc.org
SUMMARY:Youth Mini Golf Trip
DESCRIPTION:Trip to Asheboro to play golf and eat.
URL:https://troyfirstbaptistnc.org/event/youth-mini-golf-trip-2/
END:VEVENT
BEGIN:VEVENT
DTSTART;TZID=America/New_York:20250413T123000
DTEND;TZID=America/New_York:20250413T140000
DTSTAMP:20260420T142320
CREATED:20250114T225014Z
LAST-MODIFIED:20250114T225018Z
UID:3023-1744547400-1744552800@troyfirstbaptistnc.org
SUMMARY:Easter Egg Hunt
DESCRIPTION:Children’s Easter egg hunt after worship service. Lunch will be provided.
URL:https://troyfirstbaptistnc.org/event/easter-egg-hunt/
END:VEVENT
BEGIN:VEVENT
DTSTART;TZID=America/New_York:20250330T173000
DTEND;TZID=America/New_York:20250330T210000
DTSTAMP:20260420T142320
CREATED:20250114T225139Z
LAST-MODIFIED:20250326T224608Z
UID:3025-1743355800-1743368400@troyfirstbaptistnc.org
SUMMARY:5th Sunday Family Movie Night
DESCRIPTION:PLEASE NOTE: Due to anticipated rain\, the movie will be shown in the youth building. You can still bring your lawn chairs and blankets!  Showing the movie “The Forge”. There will be pizza\, popcorn and soda.
URL:https://troyfirstbaptistnc.org/event/5th-sunday-family-movie-night/
END:VEVENT
BEGIN:VEVENT
DTSTART;TZID=America/New_York:20250309T140000
DTEND;TZID=America/New_York:20250309T180000
DTSTAMP:20260420T142320
CREATED:20250111T014910Z
LAST-MODIFIED:20250111T014914Z
UID:3004-1741528800-1741543200@troyfirstbaptistnc.org
SUMMARY:Youth hike and Bible study @ Whispering Pines
DESCRIPTION:A time of hiking\, studying God’s Word and fellowshipping.
URL:https://troyfirstbaptistnc.org/event/youth-hike-and-bible-study-whispering-pines/
END:VEVENT
END:VCALENDAR