BEGIN:VCALENDAR
VERSION:2.0
PRODID:-//Troy First Baptist - ECPv6.15.20//NONSGML v1.0//EN
CALSCALE:GREGORIAN
METHOD:PUBLISH
X-WR-CALNAME:Troy First Baptist
X-ORIGINAL-URL:https://troyfirstbaptistnc.org
X-WR-CALDESC:Events for Troy First Baptist
REFRESH-INTERVAL;VALUE=DURATION:PT1H
X-Robots-Tag:noindex
X-PUBLISHED-TTL:PT1H
BEGIN:VTIMEZONE
TZID:America/New_York
BEGIN:DAYLIGHT
TZOFFSETFROM:-0500
TZOFFSETTO:-0400
TZNAME:EDT
DTSTART:20220313T070000
END:DAYLIGHT
BEGIN:STANDARD
TZOFFSETFROM:-0400
TZOFFSETTO:-0500
TZNAME:EST
DTSTART:20221106T060000
END:STANDARD
BEGIN:DAYLIGHT
TZOFFSETFROM:-0500
TZOFFSETTO:-0400
TZNAME:EDT
DTSTART:20230312T070000
END:DAYLIGHT
BEGIN:STANDARD
TZOFFSETFROM:-0400
TZOFFSETTO:-0500
TZNAME:EST
DTSTART:20231105T060000
END:STANDARD
BEGIN:DAYLIGHT
TZOFFSETFROM:-0500
TZOFFSETTO:-0400
TZNAME:EDT
DTSTART:20240310T070000
END:DAYLIGHT
BEGIN:STANDARD
TZOFFSETFROM:-0400
TZOFFSETTO:-0500
TZNAME:EST
DTSTART:20241103T060000
END:STANDARD
BEGIN:DAYLIGHT
TZOFFSETFROM:-0500
TZOFFSETTO:-0400
TZNAME:EDT
DTSTART:20250309T070000
END:DAYLIGHT
BEGIN:STANDARD
TZOFFSETFROM:-0400
TZOFFSETTO:-0500
TZNAME:EST
DTSTART:20251102T060000
END:STANDARD
END:VTIMEZONE
BEGIN:VTIMEZONE
TZID:UTC
BEGIN:STANDARD
TZOFFSETFROM:+0000
TZOFFSETTO:+0000
TZNAME:UTC
DTSTART:20220101T000000
END:STANDARD
END:VTIMEZONE
BEGIN:VEVENT
DTSTART;TZID=America/New_York:20241201T180000
DTEND;TZID=America/New_York:20241201T190000
DTSTAMP:20260420T214729
CREATED:20240815T225716Z
LAST-MODIFIED:20240815T225721Z
UID:2810-1733076000-1733079600@troyfirstbaptistnc.org
SUMMARY:Hanging of the Greens
DESCRIPTION:Join us for a special service as we prepare our sanctuary for the Christmas season!
URL:https://troyfirstbaptistnc.org/event/hanging-of-the-greens/
END:VEVENT
BEGIN:VEVENT
DTSTART;TZID=America/New_York:20241122T103000
DTEND;TZID=America/New_York:20241122T160000
DTSTAMP:20260420T214729
CREATED:20240926T074737Z
LAST-MODIFIED:20240926T074741Z
UID:2844-1732271400-1732291200@troyfirstbaptistnc.org
SUMMARY:Seniors Together - Rosebriar Restaurant in Albemarle for lunch
DESCRIPTION:Rosebriar Restaurant in Albemarle for lunch \n\n\n\nLeave church at 10:45 a.m.
URL:https://troyfirstbaptistnc.org/event/seniors-together-rosebriar-restaurant-in-albemarle-for-lunch/
END:VEVENT
BEGIN:VEVENT
DTSTART;TZID=America/New_York:20241031T170000
DTEND;TZID=America/New_York:20241031T190000
DTSTAMP:20260420T214729
CREATED:20240815T225511Z
LAST-MODIFIED:20241008T050110Z
UID:2808-1730394000-1730401200@troyfirstbaptistnc.org
SUMMARY:Trunk or Treat
DESCRIPTION:Bring the whole family out for plenty of free candy\, hot dogs\, and popcorn!
URL:https://troyfirstbaptistnc.org/event/trunk-or-treat/
END:VEVENT
BEGIN:VEVENT
DTSTART;TZID=America/New_York:20241025T093000
DTEND;TZID=America/New_York:20241025T170000
DTSTAMP:20260420T214729
CREATED:20240815T230218Z
LAST-MODIFIED:20241008T044540Z
UID:2816-1729848600-1729875600@troyfirstbaptistnc.org
SUMMARY:Senior Adult's "Boone Leaf Tour" HAS CHANGED - Please note.
DESCRIPTION:The trip to Boone has been replaced with Chili luncheon on same date at noon in fellowship hall.
URL:https://troyfirstbaptistnc.org/event/senior-adults-boone-leaf-tour/
END:VEVENT
BEGIN:VEVENT
DTSTART;TZID=America/New_York:20241025T072000
DTEND;TZID=America/New_York:20241025T220000
DTSTAMP:20260420T214729
CREATED:20240912T025837Z
LAST-MODIFIED:20240912T025841Z
UID:2837-1729840800-1729893600@troyfirstbaptistnc.org
SUMMARY:Tribulation Trail
DESCRIPTION:We will be meeting at Beulah Baptist Church in Bennett\, NC. This event is a depiction of the end times as recorded in the book of Revelation. Tickets are limited.
URL:https://troyfirstbaptistnc.org/event/tribulation-trail/
END:VEVENT
BEGIN:VEVENT
DTSTART;TZID=America/New_York:20240920T093000
DTEND;TZID=America/New_York:20240920T123000
DTSTAMP:20260420T214729
CREATED:20240815T230107Z
LAST-MODIFIED:20240815T230111Z
UID:2814-1726824600-1726835400@troyfirstbaptistnc.org
SUMMARY:Senior Adults trip to Farmer's Market in Raleigh
DESCRIPTION:Leaving the church via bus at 9:30AM. Seniors will enjoy an eventful trip to the farmer’s market and enjoy lunch together.
URL:https://troyfirstbaptistnc.org/event/senior-adults-trip-to-farmers-market-in-raleigh/
END:VEVENT
BEGIN:VEVENT
DTSTART;TZID=America/New_York:20240914T093000
DTEND;TZID=America/New_York:20240914T170000
DTSTAMP:20260420T214729
CREATED:20240912T025647Z
LAST-MODIFIED:20240912T025651Z
UID:2835-1726306200-1726333200@troyfirstbaptistnc.org
SUMMARY:Kid's and their families trip to the Zoo
DESCRIPTION:Kid’s and their families trip to the Zoo – We will be leaving on the bus at 9:30AM for a fun filled day at the NC Zoo. We ask that children bring a packed lunch.
URL:https://troyfirstbaptistnc.org/event/kids-and-their-families-trip-to-the-zoo/
END:VEVENT
BEGIN:VEVENT
DTSTART;TZID=America/New_York:20240811T190000
DTEND;TZID=America/New_York:20240811T210000
DTSTAMP:20260420T214729
CREATED:20240123T085008Z
LAST-MODIFIED:20240123T085014Z
UID:2598-1723402800-1723410000@troyfirstbaptistnc.org
SUMMARY:Back to School Pool Party
DESCRIPTION:Pool party at Biscoe Park. Pizza will be provided. All ages invited!
URL:https://troyfirstbaptistnc.org/event/back-to-school-pool-party/
END:VEVENT
BEGIN:VEVENT
DTSTART;TZID=America/New_York:20240708T080000
DTEND;TZID=America/New_York:20240712T170000
DTSTAMP:20260420T214729
CREATED:20240116T231824Z
LAST-MODIFIED:20240704T205633Z
UID:2566-1720425600-1720803600@troyfirstbaptistnc.org
SUMMARY:Youth Trip to Fort Caswell
DESCRIPTION:Please call with questions.
URL:https://troyfirstbaptistnc.org/event/youth-trip-to-fort-caswell/
END:VEVENT
BEGIN:VEVENT
DTSTART;TZID=America/New_York:20240624T090000
DTEND;TZID=America/New_York:20240628T120000
DTSTAMP:20260420T214729
CREATED:20240123T195141Z
LAST-MODIFIED:20240506T161817Z
UID:2607-1719219600-1719576000@troyfirstbaptistnc.org
SUMMARY:The Great Jungle Journey Vacation Bible School
DESCRIPTION:Every day\, our kids are bombarded with questions: Did God really create everything? Why do bad things happen? Was Noah’s ark real? Why do I need to be saved? Can I trust the Bible? \n\n\n\nAt this VBS\, your kids will explore the biblical answers to these questions as they set off on an epic adventure from Genesis to Revelation. Amid sloths\, butterflies\, river dolphins\, and dart frogs\, your children will sail along on a fun jungle cruise\, stopping at seven ports of call. These ports are the 7 C’s of History: Creation\, Corruption\, Catastrophe\, Confusion\, Christ\, Cross\, and Consummation. Kids will discover how these events shape our world\, and they will learn to reconnect the Bible to their everyday life. \n\n\n\nPrepare to swing into fun as we head out on The Great Jungle Journey! \n\n\n\nWe invite the kids to join us on a week long epic cruise from Genesis to Revelation. The Word of God\, Music\, games\, snacks\, prizes galore!  \n\n\n\nWHERE: Troy First Baptist Church \n\n\n\nWHEN: June 24-28\, 9:00AM-12:00PM \n\n\n\nAll kids ages 4-12 invited to signup at the link below \n\n\n\nSIGN UP HERE
URL:https://troyfirstbaptistnc.org/event/the-great-jungle-journey-vacation-bible-school/
END:VEVENT
BEGIN:VEVENT
DTSTART;TZID=America/New_York:20240505T173000
DTEND;TZID=America/New_York:20240505T190000
DTSTAMP:20260420T214729
CREATED:20240123T084322Z
LAST-MODIFIED:20240123T194904Z
UID:2589-1714930200-1714935600@troyfirstbaptistnc.org
SUMMARY:Youth Fiesta
DESCRIPTION:Bring your sombrero and maracas and come celebrate Jesus\, Latin style! Tacos will be involved.
URL:https://troyfirstbaptistnc.org/event/youth-fiesta/
END:VEVENT
BEGIN:VEVENT
DTSTART;TZID=America/New_York:20240428T153000
DTEND;TZID=America/New_York:20240428T153000
DTSTAMP:20260420T214729
CREATED:20240422T161820Z
LAST-MODIFIED:20240422T161826Z
UID:2704-1714318200-1714318200@troyfirstbaptistnc.org
SUMMARY:Youth Mini Golf Trip
DESCRIPTION:We will leave the church at 3:30 to head to Asheboro for some mini golf fun!
URL:https://troyfirstbaptistnc.org/event/youth-mini-golf-trip/
END:VEVENT
BEGIN:VEVENT
DTSTART;TZID=America/New_York:20240414T140000
DTEND;TZID=America/New_York:20240414T180000
DTSTAMP:20260420T214729
CREATED:20240123T084009Z
LAST-MODIFIED:20240123T084013Z
UID:2585-1713103200-1713117600@troyfirstbaptistnc.org
SUMMARY:Youth hike and Bible study @ Morrow Mtn State Park.
DESCRIPTION:The youth will take a trip with Pastor Nick for outdoor adventures with Jesus!
URL:https://troyfirstbaptistnc.org/event/youth-hike-and-bible-study-morrow-mtn-state-park/
END:VEVENT
BEGIN:VEVENT
DTSTART;TZID=America/New_York:20240323T000000
DTEND;TZID=America/New_York:20240323T235959
DTSTAMP:20260420T214729
CREATED:20240123T083822Z
LAST-MODIFIED:20240123T083826Z
UID:2582-1711152000-1711238399@troyfirstbaptistnc.org
SUMMARY:Bus Trip to outdoor Easter Drama at Faith Baptist Church in West End.
DESCRIPTION:Join us as we take a trip to Faith Baptist Church to watch a powerful depiction of the Easter story. All ages welcome! DETAILS ON TIME\, ETC. COMING
URL:https://troyfirstbaptistnc.org/event/bus-trip-to-outdoor-easter-drama-at-faith-baptist-church-in-west-end/
END:VEVENT
BEGIN:VEVENT
DTSTART;TZID=America/New_York:20240310T170000
DTEND;TZID=America/New_York:20240310T183000
DTSTAMP:20260420T214729
CREATED:20240116T231156Z
LAST-MODIFIED:20240301T183331Z
UID:2563-1710090000-1710095400@troyfirstbaptistnc.org
SUMMARY:Sunday Meal and Concert
DESCRIPTION:Meal in the fellowship hall followed by a gospel jazz hymns in the sanctuary.
URL:https://troyfirstbaptistnc.org/event/fifth-sunday-meal-and-concert/
END:VEVENT
BEGIN:VEVENT
DTSTART;TZID=America/New_York:20240309T090000
DTEND;TZID=America/New_York:20240309T140000
DTSTAMP:20260420T214729
CREATED:20240301T182043Z
LAST-MODIFIED:20240301T183053Z
UID:2646-1709974800-1709992800@troyfirstbaptistnc.org
SUMMARY:Youth Conference
DESCRIPTION:Worship\, Games\, Preaching\, Breakout groups. Theme of “finding your identity.”
URL:https://troyfirstbaptistnc.org/event/2646/
END:VEVENT
BEGIN:VEVENT
DTSTART;TZID=America/New_York:20240308T180000
DTEND;TZID=America/New_York:20240308T200000
DTSTAMP:20260420T214729
CREATED:20240301T181848Z
LAST-MODIFIED:20240301T181852Z
UID:2643-1709920800-1709928000@troyfirstbaptistnc.org
SUMMARY:Youth Conference
DESCRIPTION:Worship\, Games\, Preaching\, Breakout groups. Theme of “finding your identity.”
URL:https://troyfirstbaptistnc.org/event/youth-conference/
END:VEVENT
BEGIN:VEVENT
DTSTART;TZID=America/New_York:20240225T173000
DTEND;TZID=America/New_York:20240225T183000
DTSTAMP:20260420T214729
CREATED:20240123T084847Z
LAST-MODIFIED:20240123T220816Z
UID:2596-1708882200-1708885800@troyfirstbaptistnc.org
SUMMARY:Presentation from Sheriff Pete Herron on Fentanyl and the dangers
DESCRIPTION:A powerful\, eye-opening presentation and testimonies. This event will take place in the Troy First Baptist Chapel. The entire community is invited.
URL:https://troyfirstbaptistnc.org/event/presentation-from-sheriff-pete-herron-on-fentanyl-and-the-dangers/
ATTACH;FMTTYPE=image/jpeg:https://troyfirstbaptistnc.org/wp-content/uploads/2024/01/heron.jpg
END:VEVENT
BEGIN:VEVENT
DTSTART;TZID=America/New_York:20240204T090000
DTEND;TZID=America/New_York:20240204T100000
DTSTAMP:20260420T214729
CREATED:20240123T083521Z
LAST-MODIFIED:20240123T083526Z
UID:2580-1707037200-1707040800@troyfirstbaptistnc.org
SUMMARY:Caswell Donuts & Coffee Bar Fundraiser
DESCRIPTION:Come early Sunday morning and enjoy some homemade apple cider donuts and coffee prepared by the Troy First Youth Group to raise money for their trip to Fort Caswell this summer
URL:https://troyfirstbaptistnc.org/event/caswell-donuts-coffee-bar-fundraiser/
END:VEVENT
BEGIN:VEVENT
DTSTART;TZID=America/New_York:20231224T180000
DTEND;TZID=America/New_York:20231224T180000
DTSTAMP:20260420T214729
CREATED:20231101T215359Z
LAST-MODIFIED:20231101T221833Z
UID:2475-1703440800-1703440800@troyfirstbaptistnc.org
SUMMARY:Christmas Eve Candlelight Service
DESCRIPTION:Come be a part of a candlelit service honoring the birth of our Lord and Savior Jesus Christ. This is pastor Nick’s favorite service of the whole year! There is something about church at night on Christmas Eve that brings warm smiles. Enjoy hot cocoa and Christmas cookies immediately following the service in the fellowship hall.
URL:https://troyfirstbaptistnc.org/event/christmas-eve-candlelight-service/
ATTACH;FMTTYPE=image/jpeg:https://troyfirstbaptistnc.org/wp-content/uploads/2023/11/candlelight1.jpg
END:VEVENT
BEGIN:VEVENT
DTSTART;TZID=America/New_York:20231220T180000
DTEND;TZID=America/New_York:20231220T180000
DTSTAMP:20260420T214729
CREATED:20231101T191556Z
LAST-MODIFIED:20231101T221931Z
UID:2472-1703095200-1703095200@troyfirstbaptistnc.org
SUMMARY:Church Wide Caroling
DESCRIPTION:Families of Troy first will spread Christmas cheer by singing carols to seniors and shut ins in our community.
URL:https://troyfirstbaptistnc.org/event/church-wide-caroling/
ATTACH;FMTTYPE=image/jpeg:https://troyfirstbaptistnc.org/wp-content/uploads/2023/11/caroling1.jpg
END:VEVENT
BEGIN:VEVENT
DTSTART;TZID=America/New_York:20231210T173000
DTEND;TZID=America/New_York:20231210T183000
DTSTAMP:20260420T214729
CREATED:20231101T185607Z
LAST-MODIFIED:20231207T155232Z
UID:2469-1702229400-1702233000@troyfirstbaptistnc.org
SUMMARY:Children and Youth Christmas Play\, "A Pondering Heart"
DESCRIPTION:The Christmas story through the eyes of Mary performed by Troy First’s children and youth. Followed by a meal in the fellowship hall.
URL:https://troyfirstbaptistnc.org/event/children-and-youth-christmas-play-a-pondering-heart/
ATTACH;FMTTYPE=image/jpeg:https://troyfirstbaptistnc.org/wp-content/uploads/2023/11/Church-Christmas-Play.jpg
END:VEVENT
BEGIN:VEVENT
DTSTART;TZID=UTC:20231104T080000
DTEND;TZID=UTC:20231104T223000
DTSTAMP:20260420T214729
CREATED:20211001T014505Z
LAST-MODIFIED:20231101T222016Z
UID:1247-1699084800-1699137000@troyfirstbaptistnc.org
SUMMARY:Community Food Drive
DESCRIPTION:Saturday morning at Troy First Baptist Church.
URL:https://troyfirstbaptistnc.org/event/community-food-drive/
ATTACH;FMTTYPE=image/jpeg:https://troyfirstbaptistnc.org/wp-content/uploads/2021/04/pexels-rodnae-productions-6646923.jpg
END:VEVENT
BEGIN:VEVENT
DTSTART;TZID=UTC:20231031T170000
DTEND;TZID=UTC:20231031T190000
DTSTAMP:20260420T214729
CREATED:20210914T014411Z
LAST-MODIFIED:20231011T175728Z
UID:1059-1698771600-1698778800@troyfirstbaptistnc.org
SUMMARY:Trick or Treat Down the "Narrow" Road
DESCRIPTION:Free Candy\, Hot Dogs and Great Fun for the Family!\n\n\n\nKids and their parents will walk through the narrow road located in our brand new children’s wing!
URL:https://troyfirstbaptistnc.org/event/church-family-picnic-and-play-at-the-park/
ATTACH;FMTTYPE=image/jpeg:https://troyfirstbaptistnc.org/wp-content/uploads/2023/10/Halloween-partyHalloween-s1.jpg
END:VEVENT
END:VCALENDAR