BEGIN:VCALENDAR
VERSION:2.0
PRODID:-//Troy First Baptist - ECPv6.15.20//NONSGML v1.0//EN
CALSCALE:GREGORIAN
METHOD:PUBLISH
X-ORIGINAL-URL:https://troyfirstbaptistnc.org
X-WR-CALDESC:Events for Troy First Baptist
REFRESH-INTERVAL;VALUE=DURATION:PT1H
X-Robots-Tag:noindex
X-PUBLISHED-TTL:PT1H
BEGIN:VTIMEZONE
TZID:America/New_York
BEGIN:DAYLIGHT
TZOFFSETFROM:-0500
TZOFFSETTO:-0400
TZNAME:EDT
DTSTART:20250309T070000
END:DAYLIGHT
BEGIN:STANDARD
TZOFFSETFROM:-0400
TZOFFSETTO:-0500
TZNAME:EST
DTSTART:20251102T060000
END:STANDARD
BEGIN:DAYLIGHT
TZOFFSETFROM:-0500
TZOFFSETTO:-0400
TZNAME:EDT
DTSTART:20260308T070000
END:DAYLIGHT
BEGIN:STANDARD
TZOFFSETFROM:-0400
TZOFFSETTO:-0500
TZNAME:EST
DTSTART:20261101T060000
END:STANDARD
BEGIN:DAYLIGHT
TZOFFSETFROM:-0500
TZOFFSETTO:-0400
TZNAME:EDT
DTSTART:20270314T070000
END:DAYLIGHT
BEGIN:STANDARD
TZOFFSETFROM:-0400
TZOFFSETTO:-0500
TZNAME:EST
DTSTART:20271107T060000
END:STANDARD
END:VTIMEZONE
BEGIN:VEVENT
DTSTART;TZID=America/New_York:20260108T183000
DTEND;TZID=America/New_York:20260108T193000
DTSTAMP:20260422T081139
CREATED:20260104T212124Z
LAST-MODIFIED:20260104T212131Z
UID:3760-1767897000-1767900600@troyfirstbaptistnc.org
SUMMARY:Bro Night at Sir Pizza at 6:30 p.m.
DESCRIPTION:
URL:https://troyfirstbaptistnc.org/event/bro-night-at-sir-pizza-at-630-p-m/
END:VEVENT
BEGIN:VEVENT
DTSTART;TZID=America/New_York:20260117T140000
DTEND;TZID=America/New_York:20260117T153000
DTSTAMP:20260422T081139
CREATED:20260104T211831Z
LAST-MODIFIED:20260104T211843Z
UID:3758-1768658400-1768663800@troyfirstbaptistnc.org
SUMMARY:Coffee with Jesus - Uwharrie Mercantile
DESCRIPTION:Coffee With JesusUwharrie Mercantile2:00 PM
URL:https://troyfirstbaptistnc.org/event/coffee-with-jesus-uwharrie-mercantile/
END:VEVENT
END:VCALENDAR